BEGIN:VCALENDAR
VERSION:2.0
PRODID:-//Buzz Advocacy Summit - ECPv6.15.20//NONSGML v1.0//EN
CALSCALE:GREGORIAN
METHOD:PUBLISH
X-WR-CALNAME:Buzz Advocacy Summit
X-ORIGINAL-URL:https://buzzadvocacy.org
X-WR-CALDESC:Events for Buzz Advocacy Summit
REFRESH-INTERVAL;VALUE=DURATION:PT1H
X-Robots-Tag:noindex
X-PUBLISHED-TTL:PT1H
BEGIN:VTIMEZONE
TZID:America/New_York
BEGIN:DAYLIGHT
TZOFFSETFROM:-0500
TZOFFSETTO:-0400
TZNAME:EDT
DTSTART:20250309T070000
END:DAYLIGHT
BEGIN:STANDARD
TZOFFSETFROM:-0400
TZOFFSETTO:-0500
TZNAME:EST
DTSTART:20251102T060000
END:STANDARD
BEGIN:DAYLIGHT
TZOFFSETFROM:-0500
TZOFFSETTO:-0400
TZNAME:EDT
DTSTART:20260308T070000
END:DAYLIGHT
BEGIN:STANDARD
TZOFFSETFROM:-0400
TZOFFSETTO:-0500
TZNAME:EST
DTSTART:20261101T060000
END:STANDARD
BEGIN:DAYLIGHT
TZOFFSETFROM:-0500
TZOFFSETTO:-0400
TZNAME:EDT
DTSTART:20270314T070000
END:DAYLIGHT
BEGIN:STANDARD
TZOFFSETFROM:-0400
TZOFFSETTO:-0500
TZNAME:EST
DTSTART:20271107T060000
END:STANDARD
END:VTIMEZONE
BEGIN:VEVENT
DTSTART;TZID=America/New_York:20260604T070000
DTEND;TZID=America/New_York:20260604T080000
DTSTAMP:20260419T085711
CREATED:20260408T220339Z
LAST-MODIFIED:20260410T153028Z
UID:6447-1780556400-1780560000@buzzadvocacy.org
SUMMARY:Professional-led Sound Bath Meditation
DESCRIPTION:Meet in the atrium at the start time. Please bring your own yoga mats\, as a small number of provided mats will be available for guests.
URL:https://buzzadvocacy.org/event/professional-led-sound-bath-meditation-4/
CATEGORIES:Day 2 Schedule
ATTACH;FMTTYPE=image/svg+xml:https://buzzadvocacy.org/wp-content/uploads/2023/05/Buzz-23-Flag-A.svg
END:VEVENT
BEGIN:VEVENT
DTSTART;TZID=America/New_York:20260604T150000
DTEND;TZID=America/New_York:20260604T183000
DTSTAMP:20260419T085711
CREATED:20260408T220420Z
LAST-MODIFIED:20260408T223049Z
UID:6461-1780585200-1780597800@buzzadvocacy.org
SUMMARY:Explore Annapolis
DESCRIPTION:Boat cruise attendees can meet in the lobby at 3:15 to walk over together to the dock.
URL:https://buzzadvocacy.org/event/explore-annapolis-6/
LOCATION:Annapolis City Marina\, 410 Severn Ave\, Annapolis\, Maryland\, 21403\, United States
CATEGORIES:Day 2 Schedule
END:VEVENT
END:VCALENDAR