BEGIN:VCALENDAR
VERSION:2.0
PRODID:-//Buzz Advocacy Summit - ECPv6.15.20//NONSGML v1.0//EN
CALSCALE:GREGORIAN
METHOD:PUBLISH
X-WR-CALNAME:Buzz Advocacy Summit
X-ORIGINAL-URL:https://buzzadvocacy.org
X-WR-CALDESC:Events for Buzz Advocacy Summit
REFRESH-INTERVAL;VALUE=DURATION:PT1H
X-Robots-Tag:noindex
X-PUBLISHED-TTL:PT1H
BEGIN:VTIMEZONE
TZID:America/New_York
BEGIN:DAYLIGHT
TZOFFSETFROM:-0500
TZOFFSETTO:-0400
TZNAME:EDT
DTSTART:20250309T070000
END:DAYLIGHT
BEGIN:STANDARD
TZOFFSETFROM:-0400
TZOFFSETTO:-0500
TZNAME:EST
DTSTART:20251102T060000
END:STANDARD
BEGIN:DAYLIGHT
TZOFFSETFROM:-0500
TZOFFSETTO:-0400
TZNAME:EDT
DTSTART:20260308T070000
END:DAYLIGHT
BEGIN:STANDARD
TZOFFSETFROM:-0400
TZOFFSETTO:-0500
TZNAME:EST
DTSTART:20261101T060000
END:STANDARD
BEGIN:DAYLIGHT
TZOFFSETFROM:-0500
TZOFFSETTO:-0400
TZNAME:EDT
DTSTART:20270314T070000
END:DAYLIGHT
BEGIN:STANDARD
TZOFFSETFROM:-0400
TZOFFSETTO:-0500
TZNAME:EST
DTSTART:20271107T060000
END:STANDARD
END:VTIMEZONE
BEGIN:VEVENT
DTSTART;TZID=America/New_York:20260604T113000
DTEND;TZID=America/New_York:20260604T123000
DTSTAMP:20260425T062212
CREATED:20260408T220355Z
LAST-MODIFIED:20260410T153113Z
UID:6455-1780572600-1780576200@buzzadvocacy.org
SUMMARY:Measuring What Matters: Communicating Advocacy Impact
DESCRIPTION:Advocacy work is deeply relational and often defies traditional metrics\, but leadership still needs to see results. This session tackles one of the most persistent challenges in the field: how to translate the often intangible impact of advocacy into language and reporting that resonates with internal decision-makers. \n 
URL:https://buzzadvocacy.org/event/measuring-what-matters-communicating-advocacy-impact-2/
CATEGORIES:Day 2 Schedule
ATTACH;FMTTYPE=image/svg+xml:https://buzzadvocacy.org/wp-content/uploads/2023/05/Buzz-23-Flag-DD3.svg
END:VEVENT
BEGIN:VEVENT
DTSTART;TZID=America/New_York:20260604T140000
DTEND;TZID=America/New_York:20260604T150000
DTSTAMP:20260425T062212
CREATED:20260408T220405Z
LAST-MODIFIED:20260410T153247Z
UID:6460-1780581600-1780585200@buzzadvocacy.org
SUMMARY:Unpolished on Purpose: The Art of Authentic Advocacy Storytelling
DESCRIPTION:In an era of AI-generated content and polished brand narratives\, audiences are hungry for stories that feel real. But “authentic” doesn’t mean unstrategic\, and getting the balance right between genuine and on-message is one of the hardest creative challenges in advocacy communications. This session explores how organizations are capturing and sharing stories that connect emotionally without losing the policy thread.
URL:https://buzzadvocacy.org/event/unpolished-on-purpose-the-art-of-authentic-advocacy-storytelling-2/
CATEGORIES:Day 2 Schedule
ATTACH;FMTTYPE=image/svg+xml:https://buzzadvocacy.org/wp-content/uploads/2023/05/Buzz-23-Flag-DD3.svg
END:VEVENT
END:VCALENDAR