BEGIN:VCALENDAR
VERSION:2.0
PRODID:-//Buzz Advocacy Summit - ECPv6.15.20//NONSGML v1.0//EN
CALSCALE:GREGORIAN
METHOD:PUBLISH
X-ORIGINAL-URL:https://buzzadvocacy.org
X-WR-CALDESC:Events for Buzz Advocacy Summit
REFRESH-INTERVAL;VALUE=DURATION:PT1H
X-Robots-Tag:noindex
X-PUBLISHED-TTL:PT1H
BEGIN:VTIMEZONE
TZID:America/New_York
BEGIN:DAYLIGHT
TZOFFSETFROM:-0500
TZOFFSETTO:-0400
TZNAME:EDT
DTSTART:20250309T070000
END:DAYLIGHT
BEGIN:STANDARD
TZOFFSETFROM:-0400
TZOFFSETTO:-0500
TZNAME:EST
DTSTART:20251102T060000
END:STANDARD
BEGIN:DAYLIGHT
TZOFFSETFROM:-0500
TZOFFSETTO:-0400
TZNAME:EDT
DTSTART:20260308T070000
END:DAYLIGHT
BEGIN:STANDARD
TZOFFSETFROM:-0400
TZOFFSETTO:-0500
TZNAME:EST
DTSTART:20261101T060000
END:STANDARD
BEGIN:DAYLIGHT
TZOFFSETFROM:-0500
TZOFFSETTO:-0400
TZNAME:EDT
DTSTART:20270314T070000
END:DAYLIGHT
BEGIN:STANDARD
TZOFFSETFROM:-0400
TZOFFSETTO:-0500
TZNAME:EST
DTSTART:20271107T060000
END:STANDARD
END:VTIMEZONE
BEGIN:VEVENT
DTSTART;TZID=America/New_York:20260603T113000
DTEND;TZID=America/New_York:20260603T123000
DTSTAMP:20260423T090401
CREATED:20260408T220137Z
LAST-MODIFIED:20260410T152449Z
UID:6434-1780486200-1780489800@buzzadvocacy.org
SUMMARY:The Coalition Calculus: Navigating Partnerships in a Volatile Political Environment
DESCRIPTION:Coalition work has always required a blend of relationship instinct and strategic judgment\, but the current political environment has raised the stakes on both. This session digs into the harder questions of partnership management: how to maintain productive alliances during political turmoil\, when to disengage without burning bridges\, and how to build political capital in a landscape where the rules keep shifting.
URL:https://buzzadvocacy.org/event/the-coalition-calculus-navigating-partnerships-in-a-volatile-political-environment-2/
CATEGORIES:Day 1 Schedule
ATTACH;FMTTYPE=image/svg+xml:https://buzzadvocacy.org/wp-content/uploads/2023/05/Buzz-23-Flag-DD3.svg
END:VEVENT
BEGIN:VEVENT
DTSTART;TZID=America/New_York:20260603T140000
DTEND;TZID=America/New_York:20260603T150000
DTSTAMP:20260423T090401
CREATED:20260408T220238Z
LAST-MODIFIED:20260410T152602Z
UID:6441-1780495200-1780498800@buzzadvocacy.org
SUMMARY:The Art of the Nonpartisan Ask: GOTV Messaging in a Contentious Cycle
DESCRIPTION:Midterm cycles bring a surge of civic energy\, but for nonpartisan organizations\, channeling that energy without crossing political lines is a creative challenge. This session explores how advocacy teams are crafting GOTV messaging that energizes their base while staying true to their nonpartisan positioning.
URL:https://buzzadvocacy.org/event/the-art-of-the-nonpartisan-ask-gotv-messaging-in-a-contentious-cycle-2/
CATEGORIES:Day 1 Schedule
ATTACH;FMTTYPE=image/svg+xml:https://buzzadvocacy.org/wp-content/uploads/2023/05/Buzz-23-Flag-DD3.svg
END:VEVENT
END:VCALENDAR